BEGIN:VCALENDAR
VERSION:2.0
PRODID:-//RIGHTHERE//CALENDARIZE IT V3.2//EN
BEGIN:VTIMEZONE
TZID:Europe/London
X-MICROSOFT-CDO-TZID:1
BEGIN:STANDARD
DTSTART:20251026T010000
TZOFFSETFROM:+0100
TZOFFSETTO:+0000
TZNAME:GMT
END:STANDARD
BEGIN:DAYLIGHT
DTSTART:20260329T010000
TZOFFSETFROM:+0000
TZOFFSETTO:+0100
TZNAME:BST
END:DAYLIGHT
BEGIN:STANDARD
DTSTART:20261025T010000
TZOFFSETFROM:+0100
TZOFFSETTO:+0000
TZNAME:GMT
END:STANDARD
END:VTIMEZONE
BEGIN:VEVENT
UID:1624-events@familyvoicesurrey.org
DTSTART;TZID=Europe/London:20240606T190000
DTEND;TZID=Europe/London:20240606T203000
DTSTAMP;TZID=Europe/London:20240514T130636
SUMMARY:Collaboration\, connection and PDA – Q&A with Hannah Harris
URL:https://familyvoicesurrey.org/events/collaboration-connection-and-pda-q
 a-with-hannah-harris/
ORGANIZER;CN=Diana Phillips:MAILTO:woking@familyvoicesurrey.org
END:VEVENT
END:VCALENDAR